BEGIN:VCALENDAR
VERSION:2.0
PRODID:-//Colorado Elite Camps - ECPv6.15.13.1//NONSGML v1.0//EN
CALSCALE:GREGORIAN
METHOD:PUBLISH
X-WR-CALNAME:Colorado Elite Camps
X-ORIGINAL-URL:https://www.coloradoelitecamps.com
X-WR-CALDESC:Events for Colorado Elite Camps
REFRESH-INTERVAL;VALUE=DURATION:PT1H
X-Robots-Tag:noindex
X-PUBLISHED-TTL:PT1H
BEGIN:VTIMEZONE
TZID:America/Denver
BEGIN:DAYLIGHT
TZOFFSETFROM:-0700
TZOFFSETTO:-0600
TZNAME:MDT
DTSTART:20250309T090000
END:DAYLIGHT
BEGIN:STANDARD
TZOFFSETFROM:-0600
TZOFFSETTO:-0700
TZNAME:MST
DTSTART:20251102T080000
END:STANDARD
BEGIN:DAYLIGHT
TZOFFSETFROM:-0700
TZOFFSETTO:-0600
TZNAME:MDT
DTSTART:20260308T090000
END:DAYLIGHT
BEGIN:STANDARD
TZOFFSETFROM:-0600
TZOFFSETTO:-0700
TZNAME:MST
DTSTART:20261101T080000
END:STANDARD
BEGIN:DAYLIGHT
TZOFFSETFROM:-0700
TZOFFSETTO:-0600
TZNAME:MDT
DTSTART:20270314T090000
END:DAYLIGHT
BEGIN:STANDARD
TZOFFSETFROM:-0600
TZOFFSETTO:-0700
TZNAME:MST
DTSTART:20271107T080000
END:STANDARD
END:VTIMEZONE
BEGIN:VEVENT
DTSTART;VALUE=DATE:20260615
DTEND;VALUE=DATE:20260716
DTSTAMP:20260423T205330
CREATED:20240308T232111Z
LAST-MODIFIED:20260403T043825Z
UID:11488-1781481600-1784159999@www.coloradoelitecamps.com
SUMMARY:EHS Youth Speed & Agility Camp
DESCRIPTION:Dates: June 15th – July 15th\, Mondays & Wednesdays from 11:30 am – 12:30 pm (8 total sessions) \nCost: $125 \nDescription: The speed & agility camp is offered for incoming 1st – 8th graders.  Focus on the camp will be sprinting and sprinting mechanics as well as agility\, balance\, coordination\, change of direction\, power and reaction time. This youth camp also includes a series of fun games and competitions that allow kids to work on various athletic movements while also having a lot of fun. \nLocation: Eaglecrest High School Football Field & Track
URL:https://www.coloradoelitecamps.com/event/ehs-youth-speed-agility-camp/
LOCATION:Eaglecrest High School\, 5100 S Picadilly St\, Aurora\, CO\, 80015\, United States
CATEGORIES:Eaglecrest
ATTACH;FMTTYPE=image/jpeg:https://www.coloradoelitecamps.com/wp-content/uploads/2020/05/KTjL6jM8c-e1590183621810.jpg
END:VEVENT
END:VCALENDAR