BEGIN:VCALENDAR
VERSION:2.0
PRODID:-//Colorado Elite Camps - ECPv6.15.13.1//NONSGML v1.0//EN
CALSCALE:GREGORIAN
METHOD:PUBLISH
X-ORIGINAL-URL:https://www.coloradoelitecamps.com
X-WR-CALDESC:Events for Colorado Elite Camps
REFRESH-INTERVAL;VALUE=DURATION:PT1H
X-Robots-Tag:noindex
X-PUBLISHED-TTL:PT1H
BEGIN:VTIMEZONE
TZID:America/Denver
BEGIN:DAYLIGHT
TZOFFSETFROM:-0700
TZOFFSETTO:-0600
TZNAME:MDT
DTSTART:20250309T090000
END:DAYLIGHT
BEGIN:STANDARD
TZOFFSETFROM:-0600
TZOFFSETTO:-0700
TZNAME:MST
DTSTART:20251102T080000
END:STANDARD
BEGIN:DAYLIGHT
TZOFFSETFROM:-0700
TZOFFSETTO:-0600
TZNAME:MDT
DTSTART:20260308T090000
END:DAYLIGHT
BEGIN:STANDARD
TZOFFSETFROM:-0600
TZOFFSETTO:-0700
TZNAME:MST
DTSTART:20261101T080000
END:STANDARD
BEGIN:DAYLIGHT
TZOFFSETFROM:-0700
TZOFFSETTO:-0600
TZNAME:MDT
DTSTART:20270314T090000
END:DAYLIGHT
BEGIN:STANDARD
TZOFFSETFROM:-0600
TZOFFSETTO:-0700
TZNAME:MST
DTSTART:20271107T080000
END:STANDARD
END:VTIMEZONE
BEGIN:VEVENT
DTSTART;VALUE=DATE:20260617
DTEND;VALUE=DATE:20260620
DTSTAMP:20260423T125510
CREATED:20250407T174902Z
LAST-MODIFIED:20260421T005327Z
UID:14680-1781654400-1781913599@www.coloradoelitecamps.com
SUMMARY:Erie Youth Football Camp - 1st Athlete
DESCRIPTION:Dates/Time: June 17th – 19th\n2nd-5th Grades: 4:00 pm – 5:30 pm\n6th-8th Grades: 5:30 pm – 7:00 pm \nCost of Camp: $100 \nDescription of Camp: This camp is a great opportunity to learn from Coach Jeff Giger\, his staff\, and current varsity athletes what it means to be a part Erie Football and learn how to become a better football player on both sides of the ball. The goal of this camp is to teach young football players the necessary fundamentals and skills to be a great football player\, all while stressing proper technique and safety and having fun while doing it! This is a non-contact camp. \nWhat to Bring: Shorts\, t-shirt\, cleats\, tennis shoes\, gloves\, and an individually labeled water bottle \nCamp Location: Tiger Stadium
URL:https://www.coloradoelitecamps.com/event/erie-youth-football-camp-1st-athlete/
LOCATION:Tiger Stadium\, 3180 Co Rd 5\, Erie\, CO\, 80516\, United States
CATEGORIES:Erie
ATTACH;FMTTYPE=image/png:https://www.coloradoelitecamps.com/wp-content/uploads/2025/02/Erie-Tiger.png
END:VEVENT
BEGIN:VEVENT
DTSTART;VALUE=DATE:20260617
DTEND;VALUE=DATE:20260620
DTSTAMP:20260423T125510
CREATED:20250407T180206Z
LAST-MODIFIED:20260421T005421Z
UID:14692-1781654400-1781913599@www.coloradoelitecamps.com
SUMMARY:Erie Youth Football Camp - Sibling
DESCRIPTION:Dates/Time: June 17th – 19th\n2nd-5th Grades: 4:00 pm – 5:30 pm\n6th-8th Grades: 5:30 pm – 7:00 pm \nCost of Camp: $50 \nDescription of Camp: This camp is a great opportunity to learn from Coach Jeff Giger\, his staff\, and current varsity athletes what it means to be a part Erie Football and learn how to become a better football player on both sides of the ball. The goal of this camp is to teach young football players the necessary fundamentals and skills to be a great football player\, all while stressing proper technique and safety and having fun while doing it! This is a non-contact camp. \nWhat to Bring: Shorts\, t-shirt\, cleats\, tennis shoes\, gloves\, and an individually labeled water bottle \nCamp Location: Tiger Stadium
URL:https://www.coloradoelitecamps.com/event/erie-youth-football-camp-sibling/
LOCATION:Tiger Stadium\, 3180 Co Rd 5\, Erie\, CO\, 80516\, United States
CATEGORIES:Erie
ATTACH;FMTTYPE=image/png:https://www.coloradoelitecamps.com/wp-content/uploads/2025/02/Erie-Tiger.png
END:VEVENT
END:VCALENDAR