BEGIN:VCALENDAR
VERSION:2.0
PRODID:-//Colorado Elite Camps - ECPv6.15.13.1//NONSGML v1.0//EN
CALSCALE:GREGORIAN
METHOD:PUBLISH
X-ORIGINAL-URL:https://www.coloradoelitecamps.com
X-WR-CALDESC:Events for Colorado Elite Camps
REFRESH-INTERVAL;VALUE=DURATION:PT1H
X-Robots-Tag:noindex
X-PUBLISHED-TTL:PT1H
BEGIN:VTIMEZONE
TZID:America/Denver
BEGIN:DAYLIGHT
TZOFFSETFROM:-0700
TZOFFSETTO:-0600
TZNAME:MDT
DTSTART:20250309T090000
END:DAYLIGHT
BEGIN:STANDARD
TZOFFSETFROM:-0600
TZOFFSETTO:-0700
TZNAME:MST
DTSTART:20251102T080000
END:STANDARD
BEGIN:DAYLIGHT
TZOFFSETFROM:-0700
TZOFFSETTO:-0600
TZNAME:MDT
DTSTART:20260308T090000
END:DAYLIGHT
BEGIN:STANDARD
TZOFFSETFROM:-0600
TZOFFSETTO:-0700
TZNAME:MST
DTSTART:20261101T080000
END:STANDARD
BEGIN:DAYLIGHT
TZOFFSETFROM:-0700
TZOFFSETTO:-0600
TZNAME:MDT
DTSTART:20270314T090000
END:DAYLIGHT
BEGIN:STANDARD
TZOFFSETFROM:-0600
TZOFFSETTO:-0700
TZNAME:MST
DTSTART:20271107T080000
END:STANDARD
END:VTIMEZONE
BEGIN:VEVENT
DTSTART;VALUE=DATE:20260308
DTEND;VALUE=DATE:20260504
DTSTAMP:20260423T221102
CREATED:20260221T165205Z
LAST-MODIFIED:20260224T162103Z
UID:18065-1772928000-1777852799@www.coloradoelitecamps.com
SUMMARY:Erie Football Skills Camp
DESCRIPTION:Cost: $125 \nDates: March 8th – May 3rd\, Sundays from 3:00 pm – 4:00 pm (8 Sessions)\nNO CAMP ON EASTER SUNDAY \nWhat to Bring: cleats\, your own towel/water bottle\, football gloves\, your favorite football \nWhere: Erie High School Football Field \nDescription: This camp will be coached by Erie Football Head Coach Jeff Giger and Staff. Skills camp is created for current 7th – 11th grade athletes (QB\, RB\, WR\, LB\, DB) that love to play football\, regardless of experience level. Each session campers will get the opportunity to compete and improve their football skills through drills\, games\, and competitions. Come have fun and be ready to be challenged to get better! This camp is a multi-week camp that will have 8 sessions on Sundays!
URL:https://www.coloradoelitecamps.com/event/erie-football-skills-camp/
LOCATION:Erie High School\, 3180 Co Rd 5\, Erie\, CO\, 80516\, United States
CATEGORIES:Erie
ATTACH;FMTTYPE=image/jpeg:https://www.coloradoelitecamps.com/wp-content/uploads/2019/02/football.jpg
END:VEVENT
BEGIN:VEVENT
DTSTART;VALUE=DATE:20260609
DTEND;VALUE=DATE:20260612
DTSTAMP:20260423T221102
CREATED:20240506T223146Z
LAST-MODIFIED:20260422T224458Z
UID:11908-1780963200-1781222399@www.coloradoelitecamps.com
SUMMARY:SCHS Youth FB Skills Camp
DESCRIPTION:Cost of Camp: $75 \nAges: 2nd – 8th grades \nDescription of Camp: This camp will be coached by head football coach Jeremy Mercer\, assistant coaches\, and varsity football players.  The 3-Day Skills camp is created for any athlete who loves to play football\, regardless of the position they play or experience level. Each session is non-padded and campers will get the opportunity to compete and improve their football skills in a variety of drills\, games and competitions.  Coach Mercer is a big believer in teaching football skills in a fun way\, through competitive drills and games\, so show up ready to have a blast and be challenged to get better at the same time. \nYou must register by 6/1 to guarantee a t-shirt with your preferred size  \nWhat to Bring: Please bring Cleats and your own water bottle \nDate: June 9th\, 10th\, and 11th \nTime: 6:00 pm – 8:00 pm \nLocation: Silver Creek High School Grass Field (behind tennis courts)
URL:https://www.coloradoelitecamps.com/event/schs-youth-fb-skills-camp/
LOCATION:Silver Creek High School\, 4901 Nelson Rd\, Longmont\, CO\, 80503\, United States
CATEGORIES:Silver Creek
ATTACH;FMTTYPE=image/jpeg:https://www.coloradoelitecamps.com/wp-content/uploads/2019/02/football.jpg
END:VEVENT
BEGIN:VEVENT
DTSTART;VALUE=DATE:20260616
DTEND;VALUE=DATE:20260717
DTSTAMP:20260423T221102
CREATED:20240308T231532Z
LAST-MODIFIED:20260403T044039Z
UID:11486-1781568000-1784246399@www.coloradoelitecamps.com
SUMMARY:EHS Youth FB Skills Camp (1st-8th)
DESCRIPTION:Cost: $125 \nDates: June 16th – July 16th\, Tuesdays & Thurssdays from 11:30 am – 12:30 pm (8 Sessions) \nWhat to Bring: cleats\, your own towel/water bottle\, football gloves\, your favorite football \nWhere: Eaglecrest High School Football Field \nDescription: This camp will be coached by Eaglecrest Football Head Coach Jesse German and Staff.  Skills camp is created for current 1st to 8th grade athletes that loves to play football\, regardless of position or experience level.  Each session campers will get the opportunity to compete and improve their football skills through drills\, games\, and competitions.  Come have fun and be ready to be challenged to get better! This camp is a multi-week camp that will have 8 sessions on Mondays and Wednesdays!
URL:https://www.coloradoelitecamps.com/event/ehs-youth-fb-skills-camp-1st-8th/
LOCATION:Eaglecrest High School\, 5100 S Picadilly St\, Aurora\, CO\, 80015\, United States
CATEGORIES:Eaglecrest
ATTACH;FMTTYPE=image/png:https://www.coloradoelitecamps.com/wp-content/uploads/2024/03/Eaglecrest-Logo-e1709427475604.png
END:VEVENT
END:VCALENDAR