BEGIN:VCALENDAR
VERSION:2.0
PRODID:-//Colorado Elite Camps - ECPv6.15.13.1//NONSGML v1.0//EN
CALSCALE:GREGORIAN
METHOD:PUBLISH
X-ORIGINAL-URL:https://www.coloradoelitecamps.com
X-WR-CALDESC:Events for Colorado Elite Camps
REFRESH-INTERVAL;VALUE=DURATION:PT1H
X-Robots-Tag:noindex
X-PUBLISHED-TTL:PT1H
BEGIN:VTIMEZONE
TZID:America/Denver
BEGIN:DAYLIGHT
TZOFFSETFROM:-0700
TZOFFSETTO:-0600
TZNAME:MDT
DTSTART:20250309T090000
END:DAYLIGHT
BEGIN:STANDARD
TZOFFSETFROM:-0600
TZOFFSETTO:-0700
TZNAME:MST
DTSTART:20251102T080000
END:STANDARD
BEGIN:DAYLIGHT
TZOFFSETFROM:-0700
TZOFFSETTO:-0600
TZNAME:MDT
DTSTART:20260308T090000
END:DAYLIGHT
BEGIN:STANDARD
TZOFFSETFROM:-0600
TZOFFSETTO:-0700
TZNAME:MST
DTSTART:20261101T080000
END:STANDARD
BEGIN:DAYLIGHT
TZOFFSETFROM:-0700
TZOFFSETTO:-0600
TZNAME:MDT
DTSTART:20270314T090000
END:DAYLIGHT
BEGIN:STANDARD
TZOFFSETFROM:-0600
TZOFFSETTO:-0700
TZNAME:MST
DTSTART:20271107T080000
END:STANDARD
END:VTIMEZONE
BEGIN:VEVENT
DTSTART;VALUE=DATE:20260308
DTEND;VALUE=DATE:20260504
DTSTAMP:20260423T165337
CREATED:20260221T165205Z
LAST-MODIFIED:20260224T162103Z
UID:18065-1772928000-1777852799@www.coloradoelitecamps.com
SUMMARY:Erie Football Skills Camp
DESCRIPTION:Cost: $125 \nDates: March 8th – May 3rd\, Sundays from 3:00 pm – 4:00 pm (8 Sessions)\nNO CAMP ON EASTER SUNDAY \nWhat to Bring: cleats\, your own towel/water bottle\, football gloves\, your favorite football \nWhere: Erie High School Football Field \nDescription: This camp will be coached by Erie Football Head Coach Jeff Giger and Staff. Skills camp is created for current 7th – 11th grade athletes (QB\, RB\, WR\, LB\, DB) that love to play football\, regardless of experience level. Each session campers will get the opportunity to compete and improve their football skills through drills\, games\, and competitions. Come have fun and be ready to be challenged to get better! This camp is a multi-week camp that will have 8 sessions on Sundays!
URL:https://www.coloradoelitecamps.com/event/erie-football-skills-camp/
LOCATION:Erie High School\, 3180 Co Rd 5\, Erie\, CO\, 80516\, United States
CATEGORIES:Erie
ATTACH;FMTTYPE=image/jpeg:https://www.coloradoelitecamps.com/wp-content/uploads/2019/02/football.jpg
END:VEVENT
END:VCALENDAR