BEGIN:VCALENDAR
VERSION:2.0
PRODID:-//Colorado Elite Camps - ECPv6.15.13.1//NONSGML v1.0//EN
CALSCALE:GREGORIAN
METHOD:PUBLISH
X-WR-CALNAME:Colorado Elite Camps
X-ORIGINAL-URL:https://www.coloradoelitecamps.com
X-WR-CALDESC:Events for Colorado Elite Camps
REFRESH-INTERVAL;VALUE=DURATION:PT1H
X-Robots-Tag:noindex
X-PUBLISHED-TTL:PT1H
BEGIN:VTIMEZONE
TZID:America/Denver
BEGIN:DAYLIGHT
TZOFFSETFROM:-0700
TZOFFSETTO:-0600
TZNAME:MDT
DTSTART:20250309T090000
END:DAYLIGHT
BEGIN:STANDARD
TZOFFSETFROM:-0600
TZOFFSETTO:-0700
TZNAME:MST
DTSTART:20251102T080000
END:STANDARD
BEGIN:DAYLIGHT
TZOFFSETFROM:-0700
TZOFFSETTO:-0600
TZNAME:MDT
DTSTART:20260308T090000
END:DAYLIGHT
BEGIN:STANDARD
TZOFFSETFROM:-0600
TZOFFSETTO:-0700
TZNAME:MST
DTSTART:20261101T080000
END:STANDARD
BEGIN:DAYLIGHT
TZOFFSETFROM:-0700
TZOFFSETTO:-0600
TZNAME:MDT
DTSTART:20270314T090000
END:DAYLIGHT
BEGIN:STANDARD
TZOFFSETFROM:-0600
TZOFFSETTO:-0700
TZNAME:MST
DTSTART:20271107T080000
END:STANDARD
END:VTIMEZONE
BEGIN:VEVENT
DTSTART;VALUE=DATE:20260330
DTEND;VALUE=DATE:20260430
DTSTAMP:20260423T174848
CREATED:20220111T231524Z
LAST-MODIFIED:20251219T234943Z
UID:6622-1774828800-1777507199@www.coloradoelitecamps.com
SUMMARY:Spring Middle School Speed & Agility Camp
DESCRIPTION:Cost of Camp: $80 \nAge: 5th – 8th grades \nDescription of Camp: This camp will be coached by head coach Nate Johnson and his coaching staff at Pomona High School.  The Spring Middle School Speed & Agility Camp is created for any athlete (male or female) looking to improve\, regardless of the sport they play or experience level.  Each session campers will get the opportunity to improve their speed\, agility\, and compete in a variety of drills\, games and competitions. Coach Johnson is a big believer in teaching athletic skills and fundamentals in a fun and challenging way through competitive drills and games\, so show up ready to have a blast and be challenged to get better at the same time. \nThis camp is a multi-week camp that will have 10 sessions on Mondays and Wednesdays. \nWhat to Bring: Please bring cleats and your own water bottle \nTime: 5:30 pm – 6:30 pm on Mondays and Wednesdays \nLocation: Pomona High Football Field \nLink to Camp Flyer:\nhttps://www.coloradoelitecamps.com/wp-content/uploads/2025/01/PHS-Camps-2025.jpeg
URL:https://www.coloradoelitecamps.com/event/spring-middle-school-speed-and-agility-camp/
LOCATION:Pomona High School\, 8101 W. Pomona Drive\, Arvada\, CO\, 80005\, United States
CATEGORIES:Pomona
ATTACH;FMTTYPE=image/jpeg:https://www.coloradoelitecamps.com/wp-content/uploads/2023/07/panther-prowl-registration-logo-6071.jpeg
END:VEVENT
BEGIN:VEVENT
DTSTART;VALUE=DATE:20260601
DTEND;VALUE=DATE:20260625
DTSTAMP:20260423T174848
CREATED:20250503T023912Z
LAST-MODIFIED:20260416T030007Z
UID:14998-1780272000-1782345599@www.coloradoelitecamps.com
SUMMARY:Raptor Fast Speed & Agility Camp
DESCRIPTION:Dates: June 1st – June 24th\, Mondays & Wednesdays from 9:00 am – 10:00 am (8 total sessions) \nCost: $125 \nDescription: The speed & agility camp is offered for incoming 1st – 8th graders.  Focus on the camp will be sprinting and sprinting mechanics as well as agility\, balance\, coordination\, change of direction\, power and reaction time. This youth camp also includes a series of fun games and competitions that allow kids to work on various athletic movements while also having a lot of fun. \nLocation: Silver Creek High School Football Field & Track \nWhat to Bring: Appropriate athletic gear and cleats (if you have them)\, tennis shoes\, and your own individually labeled water bottle.
URL:https://www.coloradoelitecamps.com/event/raptor-fast-speed-and-agility-camp/
LOCATION:Silver Creek High School\, 4901 Nelson Rd\, Longmont\, CO\, 80503\, United States
CATEGORIES:Silver Creek
ATTACH;FMTTYPE=image/png:https://www.coloradoelitecamps.com/wp-content/uploads/2024/05/Screenshot-2024-05-06-at-3.46.56-PM-e1715033961297.png
END:VEVENT
BEGIN:VEVENT
DTSTART;VALUE=DATE:20260602
DTEND;VALUE=DATE:20260703
DTSTAMP:20260423T174848
CREATED:20250425T232406Z
LAST-MODIFIED:20260226T201124Z
UID:14916-1780358400-1783036799@www.coloradoelitecamps.com
SUMMARY:Grizzly Youth Speed and Agility Camp
DESCRIPTION:Cost: $100 \nAges: 6 – 13 year old boys and girls \nCamp Dates/Times: June 2nd – July 2nd (Tuesdays and Thursdays) from 9:00 am – 10:00 am \nCamp Location: Thunder Ridge High School \nDescription of Camp: The Grizzly Youth Speed and Agility Camp for Girls & Boys was created for male and female athletes looking to improve their overall athletic ability. The main objective of this camp is to teach the basic fundamentals of sprinting\, improve camper’s speed\, explosive power\, foot quickness\, change of direction abilities\, balance\, coordination and reaction time. The camp will also include a series of games and competitions that allow kids to work on various athletic movements while also having FUN! Camp will be coached by Coach Jay Madden\, head football coach at Thunder Ridge HS\, his current assistant coaches\, and former HS and college athletes.
URL:https://www.coloradoelitecamps.com/event/grizzly-youth-speed-and-agility-camp/
LOCATION:ThunderRidge High School\, 1991 W Wildcat Reserve Pkwy\, Highlands Ranch\, CO\, 80129\, United States
CATEGORIES:Griz,Thunder Ridge
ATTACH;FMTTYPE=image/png:https://www.coloradoelitecamps.com/wp-content/uploads/2025/01/logo_8510.png
END:VEVENT
END:VCALENDAR