BEGIN:VCALENDAR
VERSION:2.0
PRODID:-//Colorado Elite Camps - ECPv6.15.13.1//NONSGML v1.0//EN
CALSCALE:GREGORIAN
METHOD:PUBLISH
X-ORIGINAL-URL:https://www.coloradoelitecamps.com
X-WR-CALDESC:Events for Colorado Elite Camps
REFRESH-INTERVAL;VALUE=DURATION:PT1H
X-Robots-Tag:noindex
X-PUBLISHED-TTL:PT1H
BEGIN:VTIMEZONE
TZID:America/Denver
BEGIN:DAYLIGHT
TZOFFSETFROM:-0700
TZOFFSETTO:-0600
TZNAME:MDT
DTSTART:20250309T090000
END:DAYLIGHT
BEGIN:STANDARD
TZOFFSETFROM:-0600
TZOFFSETTO:-0700
TZNAME:MST
DTSTART:20251102T080000
END:STANDARD
BEGIN:DAYLIGHT
TZOFFSETFROM:-0700
TZOFFSETTO:-0600
TZNAME:MDT
DTSTART:20260308T090000
END:DAYLIGHT
BEGIN:STANDARD
TZOFFSETFROM:-0600
TZOFFSETTO:-0700
TZNAME:MST
DTSTART:20261101T080000
END:STANDARD
BEGIN:DAYLIGHT
TZOFFSETFROM:-0700
TZOFFSETTO:-0600
TZNAME:MDT
DTSTART:20270314T090000
END:DAYLIGHT
BEGIN:STANDARD
TZOFFSETFROM:-0600
TZOFFSETTO:-0700
TZNAME:MST
DTSTART:20271107T080000
END:STANDARD
END:VTIMEZONE
BEGIN:VEVENT
DTSTART;VALUE=DATE:20260602
DTEND;VALUE=DATE:20260717
DTSTAMP:20260425T162032
CREATED:20210428T040909Z
LAST-MODIFIED:20260413T204900Z
UID:5507-1780358400-1784246399@www.coloradoelitecamps.com
SUMMARY:PHS Summer Middle School Lifting / Speed Camp
DESCRIPTION:Cost: $135 \nCamp Description: This 6-week camp is a good opportunity for incoming 5th-8th grade athletes to learn the mechanics of proper weight training and to also get faster and become a better athlete for their upcoming sports seasons. \nDates/Times: Tuesdays and Thursdays on June 2nd – July 16th from 11:00 am – 12:30 pm (no camp June 30th and July 2nd) \nLocation: Pomona HS Weight Room \nWhat to Bring: Please bring cleats\, tennis shoes and your own individually labeled water bottle \nLink to flyer below:\nhttps://www.coloradoelitecamps.com/wp-content/uploads/2026/04/Middle-School-Summer-26.png
URL:https://www.coloradoelitecamps.com/event/phs-summer-middle-school-lifting-speed-camp/
LOCATION:Pomona High School\, 8101 W. Pomona Drive\, Arvada\, CO\, 80005\, United States
CATEGORIES:Pomona
ATTACH;FMTTYPE=image/jpeg:https://www.coloradoelitecamps.com/wp-content/uploads/2020/06/05C175BA-55E4-4D8D-9AC6-CA2BA41A853C.jpeg
END:VEVENT
BEGIN:VEVENT
DTSTART;VALUE=DATE:20260608
DTEND;VALUE=DATE:20260725
DTSTAMP:20260425T162032
CREATED:20210428T035406Z
LAST-MODIFIED:20260325T174046Z
UID:5503-1780876800-1784937599@www.coloradoelitecamps.com
SUMMARY:PHS Football OTAs (9th-12th)
DESCRIPTION:Cost of Camp: $225 (needs to be paid by June 29th) \nDescription of Camp:  Athletes will take part in a challenging Weight Training program 3 days per week.  Focus in the weight room is on technique\, nutrition\, and becoming more athletic and explosive through a rigorous weight program. The speed and agility camp will focus on athletic movements that train Speed\, Power\, Agility\, Balance\, Reaction Time\, and Coordination. Focus will also be on conditioning athletes in preparation for football season.  We will also focus on installation of the playbook for the 2026 season. This also includes all evening 7 on 7s and the Hog Wars event. \nDates/Times: June 8th – July 23rd from 7:30 am – 10:45 am (Every Monday\, Tuesday\, and Thursday) (no camp July 1st – July 8th)\nJuly 24th – Aug 2nd = No team activities. Players should have their physicals complete and fully registered before practice begins on Monday\, Aug 3rd.  \nRequired Equipment:  Cleats\, water bottle.  Order your t-shirt and shorts here: https://pomonafootballbigblack22.itemorder.com/shop/sale/
URL:https://www.coloradoelitecamps.com/event/phs-football-otas-9th-12th/
LOCATION:Pomona High School\, 8101 W. Pomona Drive\, Arvada\, CO\, 80005\, United States
CATEGORIES:Pomona
ATTACH;FMTTYPE=image/jpeg:https://www.coloradoelitecamps.com/wp-content/uploads/2020/06/05C175BA-55E4-4D8D-9AC6-CA2BA41A853C.jpeg
END:VEVENT
END:VCALENDAR