BEGIN:VCALENDAR
VERSION:2.0
PRODID:-//Colorado Elite Camps - ECPv6.15.13.1//NONSGML v1.0//EN
CALSCALE:GREGORIAN
METHOD:PUBLISH
X-ORIGINAL-URL:https://www.coloradoelitecamps.com
X-WR-CALDESC:Events for Colorado Elite Camps
REFRESH-INTERVAL;VALUE=DURATION:PT1H
X-Robots-Tag:noindex
X-PUBLISHED-TTL:PT1H
BEGIN:VTIMEZONE
TZID:America/Denver
BEGIN:DAYLIGHT
TZOFFSETFROM:-0700
TZOFFSETTO:-0600
TZNAME:MDT
DTSTART:20250309T090000
END:DAYLIGHT
BEGIN:STANDARD
TZOFFSETFROM:-0600
TZOFFSETTO:-0700
TZNAME:MST
DTSTART:20251102T080000
END:STANDARD
BEGIN:DAYLIGHT
TZOFFSETFROM:-0700
TZOFFSETTO:-0600
TZNAME:MDT
DTSTART:20260308T090000
END:DAYLIGHT
BEGIN:STANDARD
TZOFFSETFROM:-0600
TZOFFSETTO:-0700
TZNAME:MST
DTSTART:20261101T080000
END:STANDARD
BEGIN:DAYLIGHT
TZOFFSETFROM:-0700
TZOFFSETTO:-0600
TZNAME:MDT
DTSTART:20270314T090000
END:DAYLIGHT
BEGIN:STANDARD
TZOFFSETFROM:-0600
TZOFFSETTO:-0700
TZNAME:MST
DTSTART:20271107T080000
END:STANDARD
END:VTIMEZONE
BEGIN:VEVENT
DTSTART;VALUE=DATE:20260518
DTEND;VALUE=DATE:20260606
DTSTAMP:20260423T170652
CREATED:20220415T213110Z
LAST-MODIFIED:20260402T020910Z
UID:7068-1779062400-1780703999@www.coloradoelitecamps.com
SUMMARY:Mini-Camp and Spring Contact Football Camp (9th-12th)
DESCRIPTION:Cost: $300 for both camps (needs to be paid by 5/15) \nCamp Description: This camp will include full practices to install the offense and defense for the upcoming football season. It will also include a full scrimmage on last day of camp at Pomona HS on June 5th. The contact camp will be a full padded camp\, and Coach Johnson will issue gear to all participants before camp starts. Please ensure you have a mouth piece. \nAges: Incoming 9th – 12th graders \nDates/Times:\nMini-Camp = May 18th – 21st from 3:45 pm – 6:15 pm \nContact Camp = May 26th – June 5th from 2:00 pm – 6:15 pm \nLocation: Pomona HS Football Field \nWhat to Bring: Football equipment will be issued by Coach Johnson prior to camp.  Bring a water bottle with you to camp. \nLink to Camp Flyer:\nhttps://www.coloradoelitecamps.com/wp-content/uploads/2026/04/Summer-SCHEDULE-26.png
URL:https://www.coloradoelitecamps.com/event/summer-contact-football-camp-9th-12th/
LOCATION:Pomona High School\, 8101 W. Pomona Drive\, Arvada\, CO\, 80005\, United States
CATEGORIES:Pomona
ATTACH;FMTTYPE=image/jpeg:https://www.coloradoelitecamps.com/wp-content/uploads/2019/02/football.jpg
END:VEVENT
END:VCALENDAR