BEGIN:VCALENDAR
VERSION:2.0
PRODID:-//Colorado Elite Camps - ECPv6.15.13.1//NONSGML v1.0//EN
CALSCALE:GREGORIAN
METHOD:PUBLISH
X-WR-CALNAME:Colorado Elite Camps
X-ORIGINAL-URL:https://www.coloradoelitecamps.com
X-WR-CALDESC:Events for Colorado Elite Camps
REFRESH-INTERVAL;VALUE=DURATION:PT1H
X-Robots-Tag:noindex
X-PUBLISHED-TTL:PT1H
BEGIN:VTIMEZONE
TZID:America/Denver
BEGIN:DAYLIGHT
TZOFFSETFROM:-0700
TZOFFSETTO:-0600
TZNAME:MDT
DTSTART:20250309T090000
END:DAYLIGHT
BEGIN:STANDARD
TZOFFSETFROM:-0600
TZOFFSETTO:-0700
TZNAME:MST
DTSTART:20251102T080000
END:STANDARD
BEGIN:DAYLIGHT
TZOFFSETFROM:-0700
TZOFFSETTO:-0600
TZNAME:MDT
DTSTART:20260308T090000
END:DAYLIGHT
BEGIN:STANDARD
TZOFFSETFROM:-0600
TZOFFSETTO:-0700
TZNAME:MST
DTSTART:20261101T080000
END:STANDARD
BEGIN:DAYLIGHT
TZOFFSETFROM:-0700
TZOFFSETTO:-0600
TZNAME:MDT
DTSTART:20270314T090000
END:DAYLIGHT
BEGIN:STANDARD
TZOFFSETFROM:-0600
TZOFFSETTO:-0700
TZNAME:MST
DTSTART:20271107T080000
END:STANDARD
END:VTIMEZONE
BEGIN:VEVENT
DTSTART;VALUE=DATE:20260602
DTEND;VALUE=DATE:20260626
DTSTAMP:20260424T075217
CREATED:20240502T231144Z
LAST-MODIFIED:20260403T173954Z
UID:11841-1780358400-1782431999@www.coloradoelitecamps.com
SUMMARY:GMHS Summer Middle School Weight Lifting Camp
DESCRIPTION:Cost: $115 \nCamp Description: This camp is a good opportunity for athletes to learn the techniques of weight training to better help them in their journey to become a better athlete.  They will also get to workout in the new GMHS weight room!  The camp is open to current 5th – 8th boys and girls. \nDates/Times: June 2nd – June 25th (Tuesdays and Thursdays) from from 10:30 am – 11:15 am \nLocation: GMHS Weight Room \nWhat to Bring: Please bring athletic shoes and your own individually labeled water bottle
URL:https://www.coloradoelitecamps.com/event/gmhs-summer-middle-school-weight-lifting-camp/
LOCATION:GMHS Weight Room\, 13175 W Green Mountain Dr\, Lakewood\, CO\, 80228\, United States
CATEGORIES:Green Mountain
ATTACH;FMTTYPE=image/jpeg:https://www.coloradoelitecamps.com/wp-content/uploads/2019/02/barbells.jpeg
END:VEVENT
END:VCALENDAR