BEGIN:VCALENDAR
VERSION:2.0
PRODID:-//Colorado Elite Camps - ECPv6.15.13.1//NONSGML v1.0//EN
CALSCALE:GREGORIAN
METHOD:PUBLISH
X-ORIGINAL-URL:https://www.coloradoelitecamps.com
X-WR-CALDESC:Events for Colorado Elite Camps
REFRESH-INTERVAL;VALUE=DURATION:PT1H
X-Robots-Tag:noindex
X-PUBLISHED-TTL:PT1H
BEGIN:VTIMEZONE
TZID:America/Denver
BEGIN:DAYLIGHT
TZOFFSETFROM:-0700
TZOFFSETTO:-0600
TZNAME:MDT
DTSTART:20250309T090000
END:DAYLIGHT
BEGIN:STANDARD
TZOFFSETFROM:-0600
TZOFFSETTO:-0700
TZNAME:MST
DTSTART:20251102T080000
END:STANDARD
BEGIN:DAYLIGHT
TZOFFSETFROM:-0700
TZOFFSETTO:-0600
TZNAME:MDT
DTSTART:20260308T090000
END:DAYLIGHT
BEGIN:STANDARD
TZOFFSETFROM:-0600
TZOFFSETTO:-0700
TZNAME:MST
DTSTART:20261101T080000
END:STANDARD
BEGIN:DAYLIGHT
TZOFFSETFROM:-0700
TZOFFSETTO:-0600
TZNAME:MDT
DTSTART:20270314T090000
END:DAYLIGHT
BEGIN:STANDARD
TZOFFSETFROM:-0600
TZOFFSETTO:-0700
TZNAME:MST
DTSTART:20271107T080000
END:STANDARD
END:VTIMEZONE
BEGIN:VEVENT
DTSTART;VALUE=DATE:20260412
DTEND;VALUE=DATE:20260702
DTSTAMP:20260423T174309
CREATED:20260404T143639Z
LAST-MODIFIED:20260406T040151Z
UID:18325-1775952000-1782950399@www.coloradoelitecamps.com
SUMMARY:Griz Spring & Summer 7 on 7
DESCRIPTION:Description: This is 7 on 7 for current ThunderRidge players for both the spring and summer \nCost: $50 \nDates/Times: April 12th – July 1st / Times TBD \nWhere: ThunderRidge HS Football Field \nWhat to bring: team gear\, water bottle\, cleats\, running shoes\, and mouth guards
URL:https://www.coloradoelitecamps.com/event/griz-spring-summer-7-on-7/
LOCATION:ThunderRidge High School\, 1991 W Wildcat Reserve Pkwy\, Highlands Ranch\, CO\, 80129\, United States
CATEGORIES:Thunder Ridge
ATTACH;FMTTYPE=image/png:https://www.coloradoelitecamps.com/wp-content/uploads/2025/01/logo_8510.png
END:VEVENT
END:VCALENDAR