BEGIN:VCALENDAR
VERSION:2.0
PRODID:-//Colorado Elite Camps - ECPv6.15.13.1//NONSGML v1.0//EN
CALSCALE:GREGORIAN
METHOD:PUBLISH
X-WR-CALNAME:Colorado Elite Camps
X-ORIGINAL-URL:https://www.coloradoelitecamps.com
X-WR-CALDESC:Events for Colorado Elite Camps
REFRESH-INTERVAL;VALUE=DURATION:PT1H
X-Robots-Tag:noindex
X-PUBLISHED-TTL:PT1H
BEGIN:VTIMEZONE
TZID:America/Denver
BEGIN:DAYLIGHT
TZOFFSETFROM:-0700
TZOFFSETTO:-0600
TZNAME:MDT
DTSTART:20250309T090000
END:DAYLIGHT
BEGIN:STANDARD
TZOFFSETFROM:-0600
TZOFFSETTO:-0700
TZNAME:MST
DTSTART:20251102T080000
END:STANDARD
BEGIN:DAYLIGHT
TZOFFSETFROM:-0700
TZOFFSETTO:-0600
TZNAME:MDT
DTSTART:20260308T090000
END:DAYLIGHT
BEGIN:STANDARD
TZOFFSETFROM:-0600
TZOFFSETTO:-0700
TZNAME:MST
DTSTART:20261101T080000
END:STANDARD
BEGIN:DAYLIGHT
TZOFFSETFROM:-0700
TZOFFSETTO:-0600
TZNAME:MDT
DTSTART:20270314T090000
END:DAYLIGHT
BEGIN:STANDARD
TZOFFSETFROM:-0600
TZOFFSETTO:-0700
TZNAME:MST
DTSTART:20271107T080000
END:STANDARD
END:VTIMEZONE
BEGIN:VEVENT
DTSTART;VALUE=DATE:20260526
DTEND;VALUE=DATE:20260731
DTSTAMP:20260423T151159
CREATED:20220424T011400Z
LAST-MODIFIED:20260403T231908Z
UID:7194-1779753600-1785455999@www.coloradoelitecamps.com
SUMMARY:SLHS Summer Weight Lifting and Football Camp
DESCRIPTION:Cost: $150 \nCamp Description: The SLHS Summer Football Strength and Conditioning Program is essential for building the foundation of culture within the team environment.  Athletes will be able to develop their physical skills for football as well as learning and understanding the 3 pillars we as Gators will live and play by: Character\, Competition and Family! \nMay 26th\, 27th\, 28th\, and June 1st\, 2nd\, 3rd\, 4th \nSpring Full Contact Football Camp\n*Athletes attending the Adams State University Team Camp must participate in our Spring Full Contact Football Camp\n*Separate Fee and Form\nSpring No Contact Football Camp will also be held on these same dates \nJune 15th – July 30th \nSummer Strength and Conditioning Camp\nMondays\, Tuesdays\, and Thursdays\nJuniors/Seniors: 7:00 am – 9:00 am\nFreshman/Sophomores: 8:00 am – 10:00 am \nField Work (Helmets Required)\nDates: Wednesdays\, June 17th – July 30th\nTime: 5:30 pm – 7:30 pm \n7 on 7: QBs / WRs / DBs / LBs\nOne on One & Individual Work: OL / DL \n\nLocation: Standley Lake HS Football Field & Weight Room \nWhat to Bring: Please bring Tennis Shoes\, Cleats and your own individually labeled water bottle
URL:https://www.coloradoelitecamps.com/event/slhs-summer-weight-lifting-and-football-camp/
LOCATION:Standley Lake High School\, 9300 W 104th Ave\, Westminster\, CO\, 80021\, United States
CATEGORIES:Standley Lake
ATTACH;FMTTYPE=image/jpeg:https://www.coloradoelitecamps.com/wp-content/uploads/2019/02/barbells.jpeg
END:VEVENT
END:VCALENDAR