BEGIN:VCALENDAR
VERSION:2.0
PRODID:-//Colorado Elite Camps - ECPv6.15.13.1//NONSGML v1.0//EN
CALSCALE:GREGORIAN
METHOD:PUBLISH
X-ORIGINAL-URL:https://www.coloradoelitecamps.com
X-WR-CALDESC:Events for Colorado Elite Camps
REFRESH-INTERVAL;VALUE=DURATION:PT1H
X-Robots-Tag:noindex
X-PUBLISHED-TTL:PT1H
BEGIN:VTIMEZONE
TZID:America/Denver
BEGIN:DAYLIGHT
TZOFFSETFROM:-0700
TZOFFSETTO:-0600
TZNAME:MDT
DTSTART:20220313T090000
END:DAYLIGHT
BEGIN:STANDARD
TZOFFSETFROM:-0600
TZOFFSETTO:-0700
TZNAME:MST
DTSTART:20221106T080000
END:STANDARD
BEGIN:DAYLIGHT
TZOFFSETFROM:-0700
TZOFFSETTO:-0600
TZNAME:MDT
DTSTART:20230312T090000
END:DAYLIGHT
BEGIN:STANDARD
TZOFFSETFROM:-0600
TZOFFSETTO:-0700
TZNAME:MST
DTSTART:20231105T080000
END:STANDARD
BEGIN:DAYLIGHT
TZOFFSETFROM:-0700
TZOFFSETTO:-0600
TZNAME:MDT
DTSTART:20240310T090000
END:DAYLIGHT
BEGIN:STANDARD
TZOFFSETFROM:-0600
TZOFFSETTO:-0700
TZNAME:MST
DTSTART:20241103T080000
END:STANDARD
BEGIN:DAYLIGHT
TZOFFSETFROM:-0700
TZOFFSETTO:-0600
TZNAME:MDT
DTSTART:20250309T090000
END:DAYLIGHT
BEGIN:STANDARD
TZOFFSETFROM:-0600
TZOFFSETTO:-0700
TZNAME:MST
DTSTART:20251102T080000
END:STANDARD
BEGIN:DAYLIGHT
TZOFFSETFROM:-0700
TZOFFSETTO:-0600
TZNAME:MDT
DTSTART:20260308T090000
END:DAYLIGHT
BEGIN:STANDARD
TZOFFSETFROM:-0600
TZOFFSETTO:-0700
TZNAME:MST
DTSTART:20261101T080000
END:STANDARD
BEGIN:DAYLIGHT
TZOFFSETFROM:-0700
TZOFFSETTO:-0600
TZNAME:MDT
DTSTART:20270314T090000
END:DAYLIGHT
BEGIN:STANDARD
TZOFFSETFROM:-0600
TZOFFSETTO:-0700
TZNAME:MST
DTSTART:20271107T080000
END:STANDARD
END:VTIMEZONE
BEGIN:VEVENT
DTSTART;VALUE=DATE:20260209
DTEND;VALUE=DATE:20260312
DTSTAMP:20260423T232227
CREATED:20220111T224207Z
LAST-MODIFIED:20251219T230403Z
UID:6617-1770595200-1773273599@www.coloradoelitecamps.com
SUMMARY:PHS Winter Middle School Lifting Camp
DESCRIPTION:Days/Times: Mondays & Wednesdays from 5:30 pm – 6:30 pm \nNo camp on 2/16 due to President’s Day  \nAge: 5th – 8th grades \nCost of Camp: $80 \nDescription of Camp: This camp is geared towards athletes (male or female) of all levels (beginner to experienced) that participate in any sport. Campers will take part in a challenging total body weight lifting and training program. We will focus on using proper technique and safety\, increasing functional athleticism and strength for sports\, and preparing young athletes for high school weight lifting.  Athletes will also receive high-level instruction on the proper nutrition required to maintain energy and achieve their goals\, and will also learn about healthy foods that they can incorporate into their daily lives to maximize the workouts and get the results they want. We will end each day focusing on flexibility and discussing the importance of rest and proper recovery. \nCamp Location: Pomona High School Weight Room \nLink to Flyer Below:\nhttps://www.coloradoelitecamps.com/wp-content/uploads/2025/01/PHS-Camps-2025.jpeg
URL:https://www.coloradoelitecamps.com/event/phs-winter-middle-school-lifting-camp/
LOCATION:Pomona High School\, 8101 W. Pomona Drive\, Arvada\, CO\, 80005\, United States
CATEGORIES:Pomona,Strength & Speed
ATTACH;FMTTYPE=image/jpeg:https://www.coloradoelitecamps.com/wp-content/uploads/2019/02/barbells.jpeg
END:VEVENT
BEGIN:VEVENT
DTSTART;VALUE=DATE:20230819
DTEND;VALUE=DATE:20230820
DTSTAMP:20260423T232227
CREATED:20230729T060542Z
LAST-MODIFIED:20230731T045353Z
UID:10642-1692403200-1692489599@www.coloradoelitecamps.com
SUMMARY:Panther Prowl Fun Run - 12 and Under
DESCRIPTION:Date: Saturday\, August 19th 2023 \nEvent Details:\n\n\n7:00 am Check In / Late Registration\n8:00 am Fun Run\n8:15 5K Run Start\n8:20 5K Walk Start\nFinish and Fun at Front Entrance to PHS\n\nGames\, food trucks\, raffles and music\n\n\n\nLocation: Pomona High School \nParking: West Student Lot \nCost: $20 \nLink to Waiver Below (by registering for this event\, you agree to electronically sign the waiver using the information you enter at registration and checkout):\nhttps://www.coloradoelitecamps.com/wp-content/uploads/2023/07/English-Participant-Assumption-of-Risk-and-Waiver-6-22-2018.pdf
URL:https://www.coloradoelitecamps.com/event/panther-prowl-fun-run-12-and-under/
LOCATION:Pomona High School\, 8101 W. Pomona Drive\, Arvada\, CO\, 80005\, United States
CATEGORIES:Pomona
ATTACH;FMTTYPE=image/jpeg:https://www.coloradoelitecamps.com/wp-content/uploads/2023/07/panther-prowl-registration-logo-6071.jpeg
END:VEVENT
BEGIN:VEVENT
DTSTART;VALUE=DATE:20230819
DTEND;VALUE=DATE:20230820
DTSTAMP:20260423T232227
CREATED:20230729T060317Z
LAST-MODIFIED:20230731T044212Z
UID:10640-1692403200-1692489599@www.coloradoelitecamps.com
SUMMARY:Panther Prowl 5K Run/Walk - 13 and Up
DESCRIPTION:Date: Saturday\, August 19th 2023 \nEvent Details:\n\n\n7:00 am Check In / Late Registration\n8:00 am Fun Run\n8:15 5K Run Start\n8:20 5K Walk Start\nFinish and Fun at Front Entrance to PHS\n\nGames\, food trucks\, raffles and music\n\n\n\nLocation: Pomona High School \nParking: West Student Lot \nCost: $30 \nLink to Waiver Below (by registering for this event\, you agree to electronically sign the waiver using the information you enter at registration and checkout):\nhttps://www.coloradoelitecamps.com/wp-content/uploads/2023/07/English-Participant-Assumption-of-Risk-and-Waiver-6-22-2018.pdf
URL:https://www.coloradoelitecamps.com/event/panther-prowl-5k-run-walk-13-and-up/
LOCATION:Pomona High School\, 8101 W. Pomona Drive\, Arvada\, CO\, 80005\, United States
CATEGORIES:Pomona
ATTACH;FMTTYPE=image/jpeg:https://www.coloradoelitecamps.com/wp-content/uploads/2023/07/panther-prowl-registration-logo-6071.jpeg
END:VEVENT
END:VCALENDAR