BEGIN:VCALENDAR
VERSION:2.0
PRODID:-//Colorado Elite Camps - ECPv6.15.13.1//NONSGML v1.0//EN
CALSCALE:GREGORIAN
METHOD:PUBLISH
X-ORIGINAL-URL:https://www.coloradoelitecamps.com
X-WR-CALDESC:Events for Colorado Elite Camps
REFRESH-INTERVAL;VALUE=DURATION:PT1H
X-Robots-Tag:noindex
X-PUBLISHED-TTL:PT1H
BEGIN:VTIMEZONE
TZID:America/Denver
BEGIN:DAYLIGHT
TZOFFSETFROM:-0700
TZOFFSETTO:-0600
TZNAME:MDT
DTSTART:20250309T090000
END:DAYLIGHT
BEGIN:STANDARD
TZOFFSETFROM:-0600
TZOFFSETTO:-0700
TZNAME:MST
DTSTART:20251102T080000
END:STANDARD
BEGIN:DAYLIGHT
TZOFFSETFROM:-0700
TZOFFSETTO:-0600
TZNAME:MDT
DTSTART:20260308T090000
END:DAYLIGHT
BEGIN:STANDARD
TZOFFSETFROM:-0600
TZOFFSETTO:-0700
TZNAME:MST
DTSTART:20261101T080000
END:STANDARD
BEGIN:DAYLIGHT
TZOFFSETFROM:-0700
TZOFFSETTO:-0600
TZNAME:MDT
DTSTART:20270314T090000
END:DAYLIGHT
BEGIN:STANDARD
TZOFFSETFROM:-0600
TZOFFSETTO:-0700
TZNAME:MST
DTSTART:20271107T080000
END:STANDARD
END:VTIMEZONE
BEGIN:VEVENT
DTSTART;VALUE=DATE:20260202
DTEND;VALUE=DATE:20260402
DTSTAMP:20260423T175201
CREATED:20250121T153548Z
LAST-MODIFIED:20260124T034505Z
UID:14091-1769990400-1775087999@www.coloradoelitecamps.com
SUMMARY:Griz Winter Middle School Strength and Conditioning Camp
DESCRIPTION:Days/Times: Mondays & Wednesdays from 3:00 pm – 4:00 pm\nNo Camp on Feb 16th (President’s Day) or Mar 16th-20th (Spring Break) \nAge: 7th – 8th grades \nCost of Camp: $125 (15 sessions) \nDescription of Camp: This camp is geared towards athletes of all levels (boys and girls\, beginner to experienced) that participate in any sport. Campers will take part in a challenging total body weight lifting and training program run by high school coaches and college athletes. We will focus on using proper technique and safety\, increasing functional athleticism and strength for sports\, and preparing young athletes for high school weight lifting. \nCamp Location: ThunderRidge High School Weight Room
URL:https://www.coloradoelitecamps.com/event/griz-winter-middle-school-strength-and-conditioning-camp/
LOCATION:ThunderRidge High School\, 1991 W Wildcat Reserve Pkwy\, Highlands Ranch\, CO\, 80129\, United States
CATEGORIES:Griz,Thunder Ridge,Weights
ATTACH;FMTTYPE=image/jpeg:https://www.coloradoelitecamps.com/wp-content/uploads/2019/02/barbells.jpeg
END:VEVENT
END:VCALENDAR