BEGIN:VCALENDAR
VERSION:2.0
PRODID:-//Colorado Elite Camps - ECPv6.15.13.1//NONSGML v1.0//EN
CALSCALE:GREGORIAN
METHOD:PUBLISH
X-WR-CALNAME:Colorado Elite Camps
X-ORIGINAL-URL:https://www.coloradoelitecamps.com
X-WR-CALDESC:Events for Colorado Elite Camps
REFRESH-INTERVAL;VALUE=DURATION:PT1H
X-Robots-Tag:noindex
X-PUBLISHED-TTL:PT1H
BEGIN:VTIMEZONE
TZID:America/Denver
BEGIN:DAYLIGHT
TZOFFSETFROM:-0700
TZOFFSETTO:-0600
TZNAME:MDT
DTSTART:20250309T090000
END:DAYLIGHT
BEGIN:STANDARD
TZOFFSETFROM:-0600
TZOFFSETTO:-0700
TZNAME:MST
DTSTART:20251102T080000
END:STANDARD
BEGIN:DAYLIGHT
TZOFFSETFROM:-0700
TZOFFSETTO:-0600
TZNAME:MDT
DTSTART:20260308T090000
END:DAYLIGHT
BEGIN:STANDARD
TZOFFSETFROM:-0600
TZOFFSETTO:-0700
TZNAME:MST
DTSTART:20261101T080000
END:STANDARD
BEGIN:DAYLIGHT
TZOFFSETFROM:-0700
TZOFFSETTO:-0600
TZNAME:MDT
DTSTART:20270314T090000
END:DAYLIGHT
BEGIN:STANDARD
TZOFFSETFROM:-0600
TZOFFSETTO:-0700
TZNAME:MST
DTSTART:20271107T080000
END:STANDARD
END:VTIMEZONE
BEGIN:VEVENT
DTSTART;VALUE=DATE:20260601
DTEND;VALUE=DATE:20260724
DTSTAMP:20260423T213123
CREATED:20240303T002103Z
LAST-MODIFIED:20260421T004537Z
UID:11296-1780272000-1784851199@www.coloradoelitecamps.com
SUMMARY:Eaglecrest Football OTAs - Full Payment
DESCRIPTION:Cost: $450 (24 sessions)\nMust register by 5/16 to get ensure you get your summer gear on time \nDates: June 1st – July 23rd (Monday – Thursday)\n(Week of July 4th off) \nWhat to bring: team gear\, water bottle\, cleats\, running shoes \nTime: 8:00 am – 11:00 am \nWhere: Eaglecrest HS Weight room / Football Field \nDescription: Rising 9th-12th grade athletes will take part in a challenging weight program 4 days a week. Focus in the weight room is on technique\, nutrition\, and becoming more athletic and explosive through a rigorous weight program. Speed & agility will focus on athletic movements that train speed\, power\, agility\, balance\, reaction time\, & coordination. The focus will also be on conditioning athletes and preparing for football season. Athletes will be required to stretch as a group at the end of each session. This cost also includes level specific 7v7 & Lineman Challenges.
URL:https://www.coloradoelitecamps.com/event/eaglecrest-football-otas-full-payment/
LOCATION:Eaglecrest High School\, 5100 S Picadilly St\, Aurora\, CO\, 80015\, United States
CATEGORIES:Eaglecrest
ATTACH;FMTTYPE=image/png:https://www.coloradoelitecamps.com/wp-content/uploads/2024/03/Eaglecrest-Logo-e1709427475604.png
END:VEVENT
BEGIN:VEVENT
DTSTART;VALUE=DATE:20260601
DTEND;VALUE=DATE:20260626
DTSTAMP:20260423T213123
CREATED:20240508T210721Z
LAST-MODIFIED:20260421T162232Z
UID:11939-1780272000-1782431999@www.coloradoelitecamps.com
SUMMARY:Eaglecrest Football OTA's - Split Payment 1
DESCRIPTION:Cost: $225 (16 sessions)\nMust be paid by June 1st \nMust register by 5/17 to get ensure you get your summer gear on time \n \nDates: June 1st – June 25th (Monday – Thursday) \nWhat to bring: team gear\, water bottle\, cleats\, running shoes \nTime: 8:00 am – 11:00 am \nWhere: Eaglecrest HS Weight room / Football Field \nDescription: Rising 9th-12th grade athletes will take part in a challenging weight program 4 days a week. Focus in the weight room is on technique\, nutrition\, and becoming more athletic and explosive through a rigorous weight program. Speed & agility will focus on athletic movements that train speed\, power\, agility\, balance\, reaction time\, & coordination. The focus will also be on conditioning athletes and preparing for football season. Athletes will be required to stretch as a group at the end of each session. This cost also includes level specific 7v7 & Lineman Challenges.
URL:https://www.coloradoelitecamps.com/event/eaglecrest-football-otas-split-payment-1/
LOCATION:Eaglecrest High School\, 5100 S Picadilly St\, Aurora\, CO\, 80015\, United States
CATEGORIES:Eaglecrest
ATTACH;FMTTYPE=image/png:https://www.coloradoelitecamps.com/wp-content/uploads/2024/03/Eaglecrest-Logo-e1709427475604.png
END:VEVENT
BEGIN:VEVENT
DTSTART;VALUE=DATE:20260615
DTEND;VALUE=DATE:20260716
DTSTAMP:20260423T213123
CREATED:20240308T232111Z
LAST-MODIFIED:20260403T043825Z
UID:11488-1781481600-1784159999@www.coloradoelitecamps.com
SUMMARY:EHS Youth Speed & Agility Camp
DESCRIPTION:Dates: June 15th – July 15th\, Mondays & Wednesdays from 11:30 am – 12:30 pm (8 total sessions) \nCost: $125 \nDescription: The speed & agility camp is offered for incoming 1st – 8th graders.  Focus on the camp will be sprinting and sprinting mechanics as well as agility\, balance\, coordination\, change of direction\, power and reaction time. This youth camp also includes a series of fun games and competitions that allow kids to work on various athletic movements while also having a lot of fun. \nLocation: Eaglecrest High School Football Field & Track
URL:https://www.coloradoelitecamps.com/event/ehs-youth-speed-agility-camp/
LOCATION:Eaglecrest High School\, 5100 S Picadilly St\, Aurora\, CO\, 80015\, United States
CATEGORIES:Eaglecrest
ATTACH;FMTTYPE=image/jpeg:https://www.coloradoelitecamps.com/wp-content/uploads/2020/05/KTjL6jM8c-e1590183621810.jpg
END:VEVENT
BEGIN:VEVENT
DTSTART;VALUE=DATE:20260616
DTEND;VALUE=DATE:20260717
DTSTAMP:20260423T213123
CREATED:20240308T231532Z
LAST-MODIFIED:20260403T044039Z
UID:11486-1781568000-1784246399@www.coloradoelitecamps.com
SUMMARY:EHS Youth FB Skills Camp (1st-8th)
DESCRIPTION:Cost: $125 \nDates: June 16th – July 16th\, Tuesdays & Thurssdays from 11:30 am – 12:30 pm (8 Sessions) \nWhat to Bring: cleats\, your own towel/water bottle\, football gloves\, your favorite football \nWhere: Eaglecrest High School Football Field \nDescription: This camp will be coached by Eaglecrest Football Head Coach Jesse German and Staff.  Skills camp is created for current 1st to 8th grade athletes that loves to play football\, regardless of position or experience level.  Each session campers will get the opportunity to compete and improve their football skills through drills\, games\, and competitions.  Come have fun and be ready to be challenged to get better! This camp is a multi-week camp that will have 8 sessions on Mondays and Wednesdays!
URL:https://www.coloradoelitecamps.com/event/ehs-youth-fb-skills-camp-1st-8th/
LOCATION:Eaglecrest High School\, 5100 S Picadilly St\, Aurora\, CO\, 80015\, United States
CATEGORIES:Eaglecrest
ATTACH;FMTTYPE=image/png:https://www.coloradoelitecamps.com/wp-content/uploads/2024/03/Eaglecrest-Logo-e1709427475604.png
END:VEVENT
BEGIN:VEVENT
DTSTART;VALUE=DATE:20260622
DTEND;VALUE=DATE:20260625
DTSTAMP:20260423T213123
CREATED:20240621T211024Z
LAST-MODIFIED:20260403T051525Z
UID:12478-1782086400-1782345599@www.coloradoelitecamps.com
SUMMARY:EHS Youth Team Camp
DESCRIPTION:Cost: $50 for Individual Players\nEmail Coach Dee to reserve a spot for your team at donnellsamueljr@gmail.com \nCamp Description: This camp is a great opportunity to learn from Coach Jesse German\, his staff\, and current varsity athletes what it means to be a part of Eaglecrest Football and learn how to become a better football player on both sides of the ball. Day 1 will be helmets only to get all players acclimated to their helmet. Day 2 will be full pads without full contact to get players acclimated to wearing all of their pads. Day 3 drills will all be full contact. The goal of this camp is to teach young football players the necessary fundamentals and skills to be a great football player\, all while stressing proper technique and safety and having fun while doing it! \nAges: Rising 2nd – 8th graders \nDates/Times: June 22nd – June 24th from 6:30 pm – 8:00 pm \nLocation: Legacy Stadium \nWhat to Bring: Please bring your own helmet\, shoulder pads\, practice jersey and pants\, leg pads\, cleats\, mouth piece\, and your own individually labeled water bottle
URL:https://www.coloradoelitecamps.com/event/ehs-youth-team-camp/
LOCATION:Legacy Stadium\, 26101 E Arapahoe Rd\, Aurora\, CO\, 80016\, United States
CATEGORIES:Eaglecrest
ATTACH;FMTTYPE=image/png:https://www.coloradoelitecamps.com/wp-content/uploads/2024/03/Eaglecrest-Logo-e1709427475604.png
END:VEVENT
END:VCALENDAR