BEGIN:VCALENDAR
VERSION:2.0
PRODID:-//Colorado Elite Camps - ECPv6.15.13.1//NONSGML v1.0//EN
CALSCALE:GREGORIAN
METHOD:PUBLISH
X-ORIGINAL-URL:https://www.coloradoelitecamps.com
X-WR-CALDESC:Events for Colorado Elite Camps
REFRESH-INTERVAL;VALUE=DURATION:PT1H
X-Robots-Tag:noindex
X-PUBLISHED-TTL:PT1H
BEGIN:VTIMEZONE
TZID:America/Denver
BEGIN:DAYLIGHT
TZOFFSETFROM:-0700
TZOFFSETTO:-0600
TZNAME:MDT
DTSTART:20250309T090000
END:DAYLIGHT
BEGIN:STANDARD
TZOFFSETFROM:-0600
TZOFFSETTO:-0700
TZNAME:MST
DTSTART:20251102T080000
END:STANDARD
BEGIN:DAYLIGHT
TZOFFSETFROM:-0700
TZOFFSETTO:-0600
TZNAME:MDT
DTSTART:20260308T090000
END:DAYLIGHT
BEGIN:STANDARD
TZOFFSETFROM:-0600
TZOFFSETTO:-0700
TZNAME:MST
DTSTART:20261101T080000
END:STANDARD
BEGIN:DAYLIGHT
TZOFFSETFROM:-0700
TZOFFSETTO:-0600
TZNAME:MDT
DTSTART:20270314T090000
END:DAYLIGHT
BEGIN:STANDARD
TZOFFSETFROM:-0600
TZOFFSETTO:-0700
TZNAME:MST
DTSTART:20271107T080000
END:STANDARD
END:VTIMEZONE
BEGIN:VEVENT
DTSTART;VALUE=DATE:20260215
DTEND;VALUE=DATE:20260406
DTSTAMP:20260425T112855
CREATED:20250318T040940Z
LAST-MODIFIED:20260208T155916Z
UID:14524-1771113600-1775433599@www.coloradoelitecamps.com
SUMMARY:Big Man Camp
DESCRIPTION:Camp Description: The Big Man Camp is for any current 8th – 11th grade offensive/defensive lineman looking to take their skills to the next level. Camp will be run by current high school coaches\, as well as former college and NFL players. We will concentrate on all aspects of offensive and defensive line play. This is a contact camp\, but all contact will be controlled. \nDates/Time: Feb 15th – Apr 5th (Sundays) from 11:30 am – 12:30 pm \nLocation: Mullen HS Football Field \nWhat to Bring: Helmet and Shoulder Pads\, Mouth Guard\, Cleats\, Leg Pads Optional\, Labeled  Water Bottle \nCost: $100
URL:https://www.coloradoelitecamps.com/event/big-man-camp/
LOCATION:Mullen High School\, 3601 S Lowell Blvd\, Denver\, CO\, 80236\, United States
CATEGORIES:Colorado Elite
ATTACH;FMTTYPE=image/jpeg:https://www.coloradoelitecamps.com/wp-content/uploads/2019/02/football.jpg
END:VEVENT
END:VCALENDAR