BEGIN:VCALENDAR
VERSION:2.0
PRODID:-//Colorado Elite Camps - ECPv6.15.13.1//NONSGML v1.0//EN
CALSCALE:GREGORIAN
METHOD:PUBLISH
X-WR-CALNAME:Colorado Elite Camps
X-ORIGINAL-URL:https://www.coloradoelitecamps.com
X-WR-CALDESC:Events for Colorado Elite Camps
REFRESH-INTERVAL;VALUE=DURATION:PT1H
X-Robots-Tag:noindex
X-PUBLISHED-TTL:PT1H
BEGIN:VTIMEZONE
TZID:America/Denver
BEGIN:DAYLIGHT
TZOFFSETFROM:-0700
TZOFFSETTO:-0600
TZNAME:MDT
DTSTART:20250309T090000
END:DAYLIGHT
BEGIN:STANDARD
TZOFFSETFROM:-0600
TZOFFSETTO:-0700
TZNAME:MST
DTSTART:20251102T080000
END:STANDARD
BEGIN:DAYLIGHT
TZOFFSETFROM:-0700
TZOFFSETTO:-0600
TZNAME:MDT
DTSTART:20260308T090000
END:DAYLIGHT
BEGIN:STANDARD
TZOFFSETFROM:-0600
TZOFFSETTO:-0700
TZNAME:MST
DTSTART:20261101T080000
END:STANDARD
BEGIN:DAYLIGHT
TZOFFSETFROM:-0700
TZOFFSETTO:-0600
TZNAME:MDT
DTSTART:20270314T090000
END:DAYLIGHT
BEGIN:STANDARD
TZOFFSETFROM:-0600
TZOFFSETTO:-0700
TZNAME:MST
DTSTART:20271107T080000
END:STANDARD
END:VTIMEZONE
BEGIN:VEVENT
DTSTART;VALUE=DATE:20260122
DTEND;VALUE=DATE:20260424
DTSTAMP:20260423T085029
CREATED:20250128T212624Z
LAST-MODIFIED:20260110T065144Z
UID:14148-1769040000-1776988799@www.coloradoelitecamps.com
SUMMARY:EHS Spring Middle School Weight Lifting Program
DESCRIPTION:Cost: $195 \nCamp Description: We are excited to announce the 3rd Annual Eaglecrest HS Spring Middle School Weightlifting Program. This camp is a good opportunity for athletes to learn the techniques of weight training to better help them in their journey to becoming better athletes. They will also get to workout in the EHS weight room and be taught by high school coaches! The camp is open to current 5th – 8th boys and girls. \nDates/Times: Jan 22nd\, Jan 26th\, Jan 28th\, Feb 3rd\, Feb 5th\, Feb 9th\, Feb 11th\, Feb 19th\, Feb 23rd\, Feb 25th\, Mar 3rd\, Mar 5th\, Mar 9th\, Mar 11th\, Mar 24th\, Mar 26th\, Mar 30th\, Apr 1st\, Apr 7th\, Apr 9th\, Apr 13th\, Apr 15th\, Apr 21st\, Apr 23rd from 4:00 pm – 5:00 pm\nNO CAMP on President’s Day (February 16th) or during Spring Break (March 16th and 18th) \nLocation: EHS Weight Room \nWhat to Bring: Please bring athletic shoes and your own individually labeled water bottle
URL:https://www.coloradoelitecamps.com/event/ehs-spring-middle-school-weight-lifting-program/
LOCATION:Eaglecrest High School\, 5100 S Picadilly St\, Aurora\, CO\, 80015\, United States
CATEGORIES:Eaglecrest
ATTACH;FMTTYPE=image/jpeg:https://www.coloradoelitecamps.com/wp-content/uploads/2019/02/barbells.jpeg
END:VEVENT
BEGIN:VEVENT
DTSTART;VALUE=DATE:20260308
DTEND;VALUE=DATE:20260504
DTSTAMP:20260423T085029
CREATED:20260221T165205Z
LAST-MODIFIED:20260224T162103Z
UID:18065-1772928000-1777852799@www.coloradoelitecamps.com
SUMMARY:Erie Football Skills Camp
DESCRIPTION:Cost: $125 \nDates: March 8th – May 3rd\, Sundays from 3:00 pm – 4:00 pm (8 Sessions)\nNO CAMP ON EASTER SUNDAY \nWhat to Bring: cleats\, your own towel/water bottle\, football gloves\, your favorite football \nWhere: Erie High School Football Field \nDescription: This camp will be coached by Erie Football Head Coach Jeff Giger and Staff. Skills camp is created for current 7th – 11th grade athletes (QB\, RB\, WR\, LB\, DB) that love to play football\, regardless of experience level. Each session campers will get the opportunity to compete and improve their football skills through drills\, games\, and competitions. Come have fun and be ready to be challenged to get better! This camp is a multi-week camp that will have 8 sessions on Sundays!
URL:https://www.coloradoelitecamps.com/event/erie-football-skills-camp/
LOCATION:Erie High School\, 3180 Co Rd 5\, Erie\, CO\, 80516\, United States
CATEGORIES:Erie
ATTACH;FMTTYPE=image/jpeg:https://www.coloradoelitecamps.com/wp-content/uploads/2019/02/football.jpg
END:VEVENT
BEGIN:VEVENT
DTSTART;VALUE=DATE:20260308
DTEND;VALUE=DATE:20260504
DTSTAMP:20260423T085029
CREATED:20260221T170233Z
LAST-MODIFIED:20260315T225306Z
UID:18067-1772928000-1777852799@www.coloradoelitecamps.com
SUMMARY:Erie Specialists Camp
DESCRIPTION:Cost: $125 \nDates: March 8th – May 3rd\, Sundays from 4:00 pm – 5:00 pm (8 Sessions)\nNO CAMP ON EASTER SUNDAY \nWhat to Bring: cleats\, your own towel/water bottle\, football gloves\, your favorite football \nWhere: Erie High School Football Field \nDescription: This camp will be coached by Erie Football Head Coach Jeff Giger and Staff. Specialists camp is created for current 7th – 11th grade Kickers\, Punters\, and Long Snappers that love to play football\, regardless of experience level. Each session campers will learn new specialist techniques and refine their skills\, as well as compete and improve their skills through drills\, games\, and competitions. Come have fun and be ready to be challenged to get better! This camp is a multi-week camp that will have 8 sessions on Sundays!
URL:https://www.coloradoelitecamps.com/event/erie-specialists-camp/
LOCATION:Erie High School\, 3180 Co Rd 5\, Erie\, CO\, 80516\, United States
CATEGORIES:Erie
ATTACH;FMTTYPE=image/jpeg:https://www.coloradoelitecamps.com/wp-content/uploads/2019/02/football.jpg
END:VEVENT
BEGIN:VEVENT
DTSTART;VALUE=DATE:20260329
DTEND;VALUE=DATE:20260608
DTSTAMP:20260423T085029
CREATED:20260221T172631Z
LAST-MODIFIED:20260224T162320Z
UID:18069-1774742400-1780876799@www.coloradoelitecamps.com
SUMMARY:Erie 5th-7th OL/DL Camp (Non-Padded)
DESCRIPTION:Cost: $200 \nCamp Description: We are excited to announce our 5th-7th OL/DL Camp. This is a non-padded offseason program designed to sharpen the skills of offensive and defensive lineman. Come train with Colorado State Championship coaches\, refine your technique and compete. All lineman in the local area who want to compete and improve their skills are welcome! \nDates/Times: March 29th\, April 12th\, April 19th\, April 26th\, May 3rd\, May 17th\, May 31st\, June 7th from 3:00 pm – 4:30 pm\nNO CAMP ON EASTER SUNDAY OR MOTHER’S DAY\nNO PADS NEEDED FOR THIS CAMP\n \nLocation: Erie High School FB Field \nWhat to Bring: Please bring cleats\, athletic shoes\, individually labeled water bottle\, mouth guard\, and a competitive spirit
URL:https://www.coloradoelitecamps.com/event/erie-5th-7th-ol-dl-camp-non-padded/
LOCATION:Erie High School\, 3180 Co Rd 5\, Erie\, CO\, 80516\, United States
CATEGORIES:Erie
ATTACH;FMTTYPE=image/jpeg:https://www.coloradoelitecamps.com/wp-content/uploads/2019/02/football.jpg
END:VEVENT
BEGIN:VEVENT
DTSTART;VALUE=DATE:20260329
DTEND;VALUE=DATE:20260608
DTSTAMP:20260423T085029
CREATED:20260221T174343Z
LAST-MODIFIED:20260323T232043Z
UID:18071-1774742400-1780876799@www.coloradoelitecamps.com
SUMMARY:Erie 8th-11th OL/DL Camp
DESCRIPTION:Cost: $200 \nCamp Description: We are excited to announce our 8th-11th OL/DL Camp. This is a non-padded & padded offseason program designed to sharpen the skills of offensive and defensive lineman. Come train with Colorado State Championship coaches\, refine your technique and compete. The first 4 sessions of this camp will be non-padded OL/DL Skills Development sessions. The last 4 sessions will be more focused on individual and group competition. All lineman in the local area who want to compete and improve their skills are welcome! \nDates/Times: March 29th\, April 12th\, April 19th\, April 26th\, May 3rd\, May 17th\, May 31st\, June 7th from 5:00 pm – 6:30 pm\nNO CAMP ON EASTER SUNDAY OR MOTHER’S DAY\nFirst 4 Sessions: NO PADS NEEDED FOR THIS CAMP\nLast 4 Sessions: HELMET & SHOULDER PADS NEEDED TO PARTICIPATE  \nLocation: Erie High School FB Field \nWhat to Bring: Please bring cleats\, athletic shoes\, individually labeled water bottle\, mouth guard\, helmet & shoulder pads (for sessions 5-8)\, and a competitive spirit
URL:https://www.coloradoelitecamps.com/event/erie-8th-11th-ol-dl-camp/
LOCATION:Erie High School\, 3180 Co Rd 5\, Erie\, CO\, 80516\, United States
CATEGORIES:Erie
ATTACH;FMTTYPE=image/jpeg:https://www.coloradoelitecamps.com/wp-content/uploads/2019/02/football.jpg
END:VEVENT
BEGIN:VEVENT
DTSTART;VALUE=DATE:20260330
DTEND;VALUE=DATE:20260430
DTSTAMP:20260423T085029
CREATED:20220111T231524Z
LAST-MODIFIED:20251219T234943Z
UID:6622-1774828800-1777507199@www.coloradoelitecamps.com
SUMMARY:Spring Middle School Speed & Agility Camp
DESCRIPTION:Cost of Camp: $80 \nAge: 5th – 8th grades \nDescription of Camp: This camp will be coached by head coach Nate Johnson and his coaching staff at Pomona High School.  The Spring Middle School Speed & Agility Camp is created for any athlete (male or female) looking to improve\, regardless of the sport they play or experience level.  Each session campers will get the opportunity to improve their speed\, agility\, and compete in a variety of drills\, games and competitions. Coach Johnson is a big believer in teaching athletic skills and fundamentals in a fun and challenging way through competitive drills and games\, so show up ready to have a blast and be challenged to get better at the same time. \nThis camp is a multi-week camp that will have 10 sessions on Mondays and Wednesdays. \nWhat to Bring: Please bring cleats and your own water bottle \nTime: 5:30 pm – 6:30 pm on Mondays and Wednesdays \nLocation: Pomona High Football Field \nLink to Camp Flyer:\nhttps://www.coloradoelitecamps.com/wp-content/uploads/2025/01/PHS-Camps-2025.jpeg
URL:https://www.coloradoelitecamps.com/event/spring-middle-school-speed-and-agility-camp/
LOCATION:Pomona High School\, 8101 W. Pomona Drive\, Arvada\, CO\, 80005\, United States
CATEGORIES:Pomona
ATTACH;FMTTYPE=image/jpeg:https://www.coloradoelitecamps.com/wp-content/uploads/2023/07/panther-prowl-registration-logo-6071.jpeg
END:VEVENT
BEGIN:VEVENT
DTSTART;VALUE=DATE:20260331
DTEND;VALUE=DATE:20260515
DTSTAMP:20260423T085029
CREATED:20240110T061839Z
LAST-MODIFIED:20260306T162339Z
UID:11124-1774915200-1778803199@www.coloradoelitecamps.com
SUMMARY:GMHS Middle School Beginner Weight Lifting Camp - Session 2
DESCRIPTION:Cost: $200 \nCamp Description: This camp is a good opportunity for athletes to learn the techniques of weight training to better help them in their journey to become a better athlete.  They will also get to workout in the new GMHS weight room!  The camp is open to current 6th – 8th boys and girls. \nDates/Times: Tuesdays and Thursdays from March 31st – May 14th from 5:00 pm – 6:00 pm \nLocation: GMHS Weight Room \nWhat to Bring: Please bring athletic shoes and your own individually labeled water bottle
URL:https://www.coloradoelitecamps.com/event/gmhs-middle-school-beginner-weight-lifting-camp-session-2/
LOCATION:GMHS Weight Room\, 13175 W Green Mountain Dr\, Lakewood\, CO\, 80228\, United States
CATEGORIES:Green Mountain
ATTACH;FMTTYPE=image/png:https://www.coloradoelitecamps.com/wp-content/uploads/2019/03/Ram-Head-pic.png
END:VEVENT
BEGIN:VEVENT
DTSTART;VALUE=DATE:20260412
DTEND;VALUE=DATE:20260601
DTSTAMP:20260423T085029
CREATED:20250416T043657Z
LAST-MODIFIED:20260406T034539Z
UID:14782-1775952000-1780271999@www.coloradoelitecamps.com
SUMMARY:Big Man Camp - Part 2
DESCRIPTION:Camp Description: The Big Man Camp is for any incoming 9th – 12th grade offensive/defensive lineman looking to take their skills to the next level. Camp will be run by current high school coaches\, as well as former college and NFL players. We will concentrate on all aspects of offensive and defensive line play. This is a contact camp\, but all contact will be controlled. \nDates/Time: April 12th – May 31st (Sundays) from 10:30 am – Noon \nLocation: ThunderRidge HS Football Field \nWhat to Bring: Helmet and Shoulder Pads\, Mouth Guard\, Cleats\, Leg Pads Optional\, Labeled  Water Bottle \nCost: $50
URL:https://www.coloradoelitecamps.com/event/big-man-camp-part-2/
LOCATION:ThunderRidge High School\, 1991 W Wildcat Reserve Pkwy\, Highlands Ranch\, CO\, 80129\, United States
CATEGORIES:Colorado Elite
ATTACH;FMTTYPE=image/jpeg:https://www.coloradoelitecamps.com/wp-content/uploads/2019/02/football.jpg
END:VEVENT
BEGIN:VEVENT
DTSTART;VALUE=DATE:20260412
DTEND;VALUE=DATE:20260702
DTSTAMP:20260423T085029
CREATED:20260404T143639Z
LAST-MODIFIED:20260406T040151Z
UID:18325-1775952000-1782950399@www.coloradoelitecamps.com
SUMMARY:Griz Spring & Summer 7 on 7
DESCRIPTION:Description: This is 7 on 7 for current ThunderRidge players for both the spring and summer \nCost: $50 \nDates/Times: April 12th – July 1st / Times TBD \nWhere: ThunderRidge HS Football Field \nWhat to bring: team gear\, water bottle\, cleats\, running shoes\, and mouth guards
URL:https://www.coloradoelitecamps.com/event/griz-spring-summer-7-on-7/
LOCATION:ThunderRidge High School\, 1991 W Wildcat Reserve Pkwy\, Highlands Ranch\, CO\, 80129\, United States
CATEGORIES:Thunder Ridge
ATTACH;FMTTYPE=image/png:https://www.coloradoelitecamps.com/wp-content/uploads/2025/01/logo_8510.png
END:VEVENT
END:VCALENDAR